BEGIN:VCALENDAR
VERSION:2.0
PRODID:-//El Cairo - ECPv5.5.0.1//NONSGML v1.0//EN
CALSCALE:GREGORIAN
METHOD:PUBLISH
X-WR-CALNAME:El Cairo
X-ORIGINAL-URL:https://elcairocinepublico.gob.ar
X-WR-CALDESC:Eventos para El Cairo
BEGIN:VTIMEZONE
TZID:America/Sao_Paulo
BEGIN:STANDARD
TZOFFSETFROM:-0200
TZOFFSETTO:-0300
TZNAME:-03
DTSTART:20190217T020000
END:STANDARD
END:VTIMEZONE
BEGIN:VEVENT
DTSTART;TZID=America/Sao_Paulo:20191123T180000
DTEND;TZID=America/Sao_Paulo:20191123T180000
DTSTAMP:20260421T140218
CREATED:20191018T150536Z
LAST-MODIFIED:20191021T130958Z
UID:8925-1574532000-1574532000@elcairocinepublico.gob.ar
SUMMARY:El pájaro de las plumas de cristal + Presentación libro Giallo
DESCRIPTION:
URL:https://elcairocinepublico.gob.ar/pelicula-de-sala/el-pajaro-de-las-plumas-de-cristal/
ATTACH;FMTTYPE=image/jpeg:https://elcairocinepublico.gob.ar/wp-content/uploads/2019/10/pajaro-45.jpg
END:VEVENT
END:VCALENDAR