BEGIN:VCALENDAR
VERSION:2.0
PRODID:-//El Cairo - ECPv5.5.0.1//NONSGML v1.0//EN
CALSCALE:GREGORIAN
METHOD:PUBLISH
X-WR-CALNAME:El Cairo
X-ORIGINAL-URL:https://elcairocinepublico.gob.ar
X-WR-CALDESC:Eventos para El Cairo
BEGIN:VTIMEZONE
TZID:America/Sao_Paulo
BEGIN:STANDARD
TZOFFSETFROM:-0200
TZOFFSETTO:-0300
TZNAME:-03
DTSTART:20190217T020000
END:STANDARD
END:VTIMEZONE
BEGIN:VEVENT
DTSTART;TZID=America/Sao_Paulo:20191212T223000
DTEND;TZID=America/Sao_Paulo:20191212T223000
DTSTAMP:20260421T142543
CREATED:20180523T153949Z
LAST-MODIFIED:20200122T144638Z
UID:2583-1576189800-1576189800@elcairocinepublico.gob.ar
SUMMARY:Cesar debe morir
DESCRIPTION:
URL:https://elcairocinepublico.gob.ar/pelicula-de-sala/cesar-debe-morir/
ATTACH;FMTTYPE=image/jpeg:https://elcairocinepublico.gob.ar/wp-content/uploads/2018/05/cesardebemorir.jpg
END:VEVENT
END:VCALENDAR