BEGIN:VCALENDAR
VERSION:2.0
PRODID:-//El Cairo - ECPv5.5.0.1//NONSGML v1.0//EN
CALSCALE:GREGORIAN
METHOD:PUBLISH
X-WR-CALNAME:El Cairo
X-ORIGINAL-URL:https://elcairocinepublico.gob.ar
X-WR-CALDESC:Eventos para El Cairo
BEGIN:VTIMEZONE
TZID:America/Sao_Paulo
BEGIN:STANDARD
TZOFFSETFROM:-0200
TZOFFSETTO:-0300
TZNAME:-03
DTSTART:20190217T020000
END:STANDARD
END:VTIMEZONE
BEGIN:VEVENT
DTSTART;TZID=America/Sao_Paulo:20191215T180000
DTEND;TZID=America/Sao_Paulo:20191215T180000
DTSTAMP:20260421T191035
CREATED:20191023T152923Z
LAST-MODIFIED:20200123T172923Z
UID:9085-1576432800-1576432800@elcairocinepublico.gob.ar
SUMMARY:HERMANOS
DESCRIPTION:
URL:https://elcairocinepublico.gob.ar/pelicula-de-sala/hermanos/
ATTACH;FMTTYPE=image/jpeg:https://elcairocinepublico.gob.ar/wp-content/uploads/2019/10/brodres-suzane-bier-.jpg
END:VEVENT
END:VCALENDAR