BEGIN:VCALENDAR
VERSION:2.0
PRODID:-//El Cairo - ECPv5.5.0.1//NONSGML v1.0//EN
CALSCALE:GREGORIAN
METHOD:PUBLISH
X-WR-CALNAME:El Cairo
X-ORIGINAL-URL:https://elcairocinepublico.gob.ar
X-WR-CALDESC:Eventos para El Cairo
BEGIN:VTIMEZONE
TZID:America/Sao_Paulo
BEGIN:STANDARD
TZOFFSETFROM:-0200
TZOFFSETTO:-0300
TZNAME:-03
DTSTART:20190217T020000
END:STANDARD
END:VTIMEZONE
BEGIN:VEVENT
DTSTART;TZID=America/Sao_Paulo:20191219T203000
DTEND;TZID=America/Sao_Paulo:20191219T203000
DTSTAMP:20260423T123831
CREATED:20191217T140241Z
LAST-MODIFIED:20200123T190631Z
UID:9362-1576787400-1576787400@elcairocinepublico.gob.ar
SUMMARY:Ciegos
DESCRIPTION:
URL:https://elcairocinepublico.gob.ar/pelicula-de-sala/ciegos/2019-12-19/
ATTACH;FMTTYPE=image/jpeg:https://elcairocinepublico.gob.ar/wp-content/uploads/2019/12/ciegos-33-1-1.jpg
END:VEVENT
BEGIN:VEVENT
DTSTART;TZID=America/Sao_Paulo:20191219T223000
DTEND;TZID=America/Sao_Paulo:20191219T223000
DTSTAMP:20260423T123831
CREATED:20191021T150201Z
LAST-MODIFIED:20200122T145505Z
UID:8971-1576794600-1576794600@elcairocinepublico.gob.ar
SUMMARY:Loco por Mary 
DESCRIPTION:
URL:https://elcairocinepublico.gob.ar/pelicula-de-sala/loco-por-mary/
ATTACH;FMTTYPE=image/jpeg:https://elcairocinepublico.gob.ar/wp-content/uploads/2019/10/mary.jpg
END:VEVENT
END:VCALENDAR