BEGIN:VCALENDAR
VERSION:2.0
PRODID:-//El Cairo - ECPv5.5.0.1//NONSGML v1.0//EN
CALSCALE:GREGORIAN
METHOD:PUBLISH
X-WR-CALNAME:El Cairo
X-ORIGINAL-URL:https://elcairocinepublico.gob.ar
X-WR-CALDESC:Eventos para El Cairo
BEGIN:VTIMEZONE
TZID:America/Sao_Paulo
BEGIN:STANDARD
TZOFFSETFROM:-0300
TZOFFSETTO:-0300
TZNAME:-03
DTSTART:20240101T000000
END:STANDARD
END:VTIMEZONE
BEGIN:VEVENT
DTSTART;TZID=America/Sao_Paulo:20240307T180000
DTEND;TZID=America/Sao_Paulo:20240307T180000
DTSTAMP:20260424T163148
CREATED:20240201T162146Z
LAST-MODIFIED:20240201T162146Z
UID:20733-1709834400-1709834400@elcairocinepublico.gob.ar
SUMMARY:ANATOMÍA DE UNA CAÍDA
DESCRIPTION:
URL:https://elcairocinepublico.gob.ar/pelicula-de-sala/anatomia-de-una-caida-2/2024-03-07/
ATTACH;FMTTYPE=image/jpeg:https://elcairocinepublico.gob.ar/wp-content/uploads/2024/02/ANATOMIA-DE-UNA-CAIDA-01.jpg
END:VEVENT
BEGIN:VEVENT
DTSTART;TZID=America/Sao_Paulo:20240307T204000
DTEND;TZID=America/Sao_Paulo:20240307T204000
DTSTAMP:20260424T163148
CREATED:20240129T171639Z
LAST-MODIFIED:20240129T171639Z
UID:18158-1709844000-1709844000@elcairocinepublico.gob.ar
SUMMARY:EL TEOREMA DE MARGUERITE
DESCRIPTION:
URL:https://elcairocinepublico.gob.ar/pelicula-de-sala/el-teorema-de-marguerite/2024-03-07/
ATTACH;FMTTYPE=image/jpeg:https://elcairocinepublico.gob.ar/wp-content/uploads/2024/01/El-teorema-de-Marguerite-01.jpg
END:VEVENT
BEGIN:VEVENT
DTSTART;TZID=America/Sao_Paulo:20240307T224000
DTEND;TZID=America/Sao_Paulo:20240307T224000
DTSTAMP:20260424T163148
CREATED:20240229T170028Z
LAST-MODIFIED:20240304T145718Z
UID:18025-1709851200-1709851200@elcairocinepublico.gob.ar
SUMMARY:DRÁCULA\, DE BRAM STOKER
DESCRIPTION:
URL:https://elcairocinepublico.gob.ar/pelicula-de-sala/dracula-de-bram-stoker/
CATEGORIES:ZOOM / A cada época su Vampire
ATTACH;FMTTYPE=image/jpeg:https://elcairocinepublico.gob.ar/wp-content/uploads/2024/02/DRACULA-DE-BRAM-STOKER-03.jpg
END:VEVENT
END:VCALENDAR