BEGIN:VCALENDAR
VERSION:2.0
PRODID:-//El Cairo - ECPv5.5.0.1//NONSGML v1.0//EN
CALSCALE:GREGORIAN
METHOD:PUBLISH
X-WR-CALNAME:El Cairo
X-ORIGINAL-URL:https://elcairocinepublico.gob.ar
X-WR-CALDESC:Eventos para El Cairo
BEGIN:VTIMEZONE
TZID:America/Sao_Paulo
BEGIN:STANDARD
TZOFFSETFROM:-0300
TZOFFSETTO:-0300
TZNAME:-03
DTSTART:20240101T000000
END:STANDARD
END:VTIMEZONE
BEGIN:VEVENT
DTSTART;TZID=America/Sao_Paulo:20240308T180000
DTEND;TZID=America/Sao_Paulo:20240308T180000
DTSTAMP:20260424T182221
CREATED:20240226T154525Z
LAST-MODIFIED:20240408T123307Z
UID:18160-1709920800-1709920800@elcairocinepublico.gob.ar
SUMMARY:NO HAY OSOS
DESCRIPTION:
URL:https://elcairocinepublico.gob.ar/pelicula-de-sala/no-hay-osos/2024-03-08/
ATTACH;FMTTYPE=image/jpeg:https://elcairocinepublico.gob.ar/wp-content/uploads/2024/02/No-hay-osos-01.jpg
END:VEVENT
BEGIN:VEVENT
DTSTART;TZID=America/Sao_Paulo:20240308T203000
DTEND;TZID=America/Sao_Paulo:20240308T203000
DTSTAMP:20260424T182221
CREATED:20240227T182632Z
LAST-MODIFIED:20240311T125842Z
UID:17947-1709929800-1709929800@elcairocinepublico.gob.ar
SUMMARY:PIBAS SUPERPODEROSAS
DESCRIPTION:
URL:https://elcairocinepublico.gob.ar/pelicula-de-sala/pibas-superpoderosas/2024-03-08/
CATEGORIES:Foco Documental Mar/Abr 2024
ATTACH;FMTTYPE=image/jpeg:https://elcairocinepublico.gob.ar/wp-content/uploads/2024/02/Pibas-Superpoderosas-01.jpg
END:VEVENT
BEGIN:VEVENT
DTSTART;TZID=America/Sao_Paulo:20240308T223000
DTEND;TZID=America/Sao_Paulo:20240308T223000
DTSTAMP:20260424T182221
CREATED:20240201T162146Z
LAST-MODIFIED:20240201T162146Z
UID:20734-1709937000-1709937000@elcairocinepublico.gob.ar
SUMMARY:ANATOMÍA DE UNA CAÍDA
DESCRIPTION:
URL:https://elcairocinepublico.gob.ar/pelicula-de-sala/anatomia-de-una-caida-2/2024-03-08/
ATTACH;FMTTYPE=image/jpeg:https://elcairocinepublico.gob.ar/wp-content/uploads/2024/02/ANATOMIA-DE-UNA-CAIDA-01.jpg
END:VEVENT
END:VCALENDAR