BEGIN:VCALENDAR
VERSION:2.0
PRODID:-//El Cairo - ECPv5.5.0.1//NONSGML v1.0//EN
CALSCALE:GREGORIAN
METHOD:PUBLISH
X-WR-CALNAME:El Cairo
X-ORIGINAL-URL:https://elcairocinepublico.gob.ar
X-WR-CALDESC:Eventos para El Cairo
BEGIN:VTIMEZONE
TZID:America/Sao_Paulo
BEGIN:STANDARD
TZOFFSETFROM:-0300
TZOFFSETTO:-0300
TZNAME:-03
DTSTART:20240101T000000
END:STANDARD
END:VTIMEZONE
BEGIN:VEVENT
DTSTART;TZID=America/Sao_Paulo:20240310T180000
DTEND;TZID=America/Sao_Paulo:20240310T180000
DTSTAMP:20260424T213124
CREATED:20230828T170519Z
LAST-MODIFIED:20240229T164403Z
UID:16377-1710093600-1710093600@elcairocinepublico.gob.ar
SUMMARY:THE QUIET GIRL
DESCRIPTION:
URL:https://elcairocinepublico.gob.ar/pelicula-de-sala/the-quiet-girl/
CATEGORIES:LA GRATIS / Cuando Óscar conoció a Bechdel
ATTACH;FMTTYPE=image/jpeg:https://elcairocinepublico.gob.ar/wp-content/uploads/2023/08/THE-QUIET-GIRL-01.jpg
END:VEVENT
BEGIN:VEVENT
DTSTART;TZID=America/Sao_Paulo:20240310T203000
DTEND;TZID=America/Sao_Paulo:20240310T203000
DTSTAMP:20260424T213124
CREATED:20240226T154525Z
LAST-MODIFIED:20240408T123308Z
UID:18162-1710102600-1710102600@elcairocinepublico.gob.ar
SUMMARY:NO HAY OSOS
DESCRIPTION:
URL:https://elcairocinepublico.gob.ar/pelicula-de-sala/no-hay-osos/2024-03-10/
ATTACH;FMTTYPE=image/jpeg:https://elcairocinepublico.gob.ar/wp-content/uploads/2024/02/No-hay-osos-01.jpg
END:VEVENT
BEGIN:VEVENT
DTSTART;TZID=America/Sao_Paulo:20240310T223000
DTEND;TZID=America/Sao_Paulo:20240310T223000
DTSTAMP:20260424T213124
CREATED:20240201T162146Z
LAST-MODIFIED:20240201T162146Z
UID:20736-1710109800-1710109800@elcairocinepublico.gob.ar
SUMMARY:ANATOMÍA DE UNA CAÍDA
DESCRIPTION:
URL:https://elcairocinepublico.gob.ar/pelicula-de-sala/anatomia-de-una-caida-2/2024-03-10/
ATTACH;FMTTYPE=image/jpeg:https://elcairocinepublico.gob.ar/wp-content/uploads/2024/02/ANATOMIA-DE-UNA-CAIDA-01.jpg
END:VEVENT
END:VCALENDAR