BEGIN:VCALENDAR
VERSION:2.0
PRODID:-//El Cairo - ECPv5.5.0.1//NONSGML v1.0//EN
CALSCALE:GREGORIAN
METHOD:PUBLISH
X-WR-CALNAME:El Cairo
X-ORIGINAL-URL:https://elcairocinepublico.gob.ar
X-WR-CALDESC:Eventos para El Cairo
BEGIN:VTIMEZONE
TZID:America/Sao_Paulo
BEGIN:STANDARD
TZOFFSETFROM:-0300
TZOFFSETTO:-0300
TZNAME:-03
DTSTART:20240101T000000
END:STANDARD
END:VTIMEZONE
BEGIN:VEVENT
DTSTART;TZID=America/Sao_Paulo:20240322T180000
DTEND;TZID=America/Sao_Paulo:20240322T180000
DTSTAMP:20260425T180747
CREATED:20240301T141129Z
LAST-MODIFIED:20240301T141129Z
UID:18142-1711130400-1711130400@elcairocinepublico.gob.ar
SUMMARY:LOS DÍAS DEL JUICIO
DESCRIPTION:
URL:https://elcairocinepublico.gob.ar/pelicula-de-sala/los-dias-del-juicio/
CATEGORIES:MEMORIA
ATTACH;FMTTYPE=image/jpeg:https://elcairocinepublico.gob.ar/wp-content/uploads/2024/03/LOS-DIAS-DEL-JUICIO-01.jpg
END:VEVENT
BEGIN:VEVENT
DTSTART;TZID=America/Sao_Paulo:20240322T203000
DTEND;TZID=America/Sao_Paulo:20240322T203000
DTSTAMP:20260425T180747
CREATED:20240227T182632Z
LAST-MODIFIED:20240311T125843Z
UID:17950-1711139400-1711139400@elcairocinepublico.gob.ar
SUMMARY:PIBAS SUPERPODEROSAS
DESCRIPTION:
URL:https://elcairocinepublico.gob.ar/pelicula-de-sala/pibas-superpoderosas/2024-03-22/
CATEGORIES:Foco Documental Mar/Abr 2024
ATTACH;FMTTYPE=image/jpeg:https://elcairocinepublico.gob.ar/wp-content/uploads/2024/02/Pibas-Superpoderosas-01.jpg
END:VEVENT
BEGIN:VEVENT
DTSTART;TZID=America/Sao_Paulo:20240322T223000
DTEND;TZID=America/Sao_Paulo:20240322T223000
DTSTAMP:20260425T180747
CREATED:20240227T183342Z
LAST-MODIFIED:20240513T130008Z
UID:18189-1711146600-1711146600@elcairocinepublico.gob.ar
SUMMARY:DIAS PERFECTOS
DESCRIPTION:
URL:https://elcairocinepublico.gob.ar/pelicula-de-sala/dias-perfectos/2024-03-22/
ATTACH;FMTTYPE=image/jpeg:https://elcairocinepublico.gob.ar/wp-content/uploads/2024/02/Dias-Perfectos-01.jpg
END:VEVENT
END:VCALENDAR