BEGIN:VCALENDAR
VERSION:2.0
PRODID:-//El Cairo - ECPv5.5.0.1//NONSGML v1.0//EN
CALSCALE:GREGORIAN
METHOD:PUBLISH
X-WR-CALNAME:El Cairo
X-ORIGINAL-URL:https://elcairocinepublico.gob.ar
X-WR-CALDESC:Eventos para El Cairo
BEGIN:VTIMEZONE
TZID:America/Sao_Paulo
BEGIN:STANDARD
TZOFFSETFROM:-0300
TZOFFSETTO:-0300
TZNAME:-03
DTSTART:20240101T000000
END:STANDARD
END:VTIMEZONE
BEGIN:VEVENT
DTSTART;TZID=America/Sao_Paulo:20240323T180000
DTEND;TZID=America/Sao_Paulo:20240323T180000
DTSTAMP:20260425T195517
CREATED:20240227T183342Z
LAST-MODIFIED:20240513T130009Z
UID:18190-1711216800-1711216800@elcairocinepublico.gob.ar
SUMMARY:DIAS PERFECTOS
DESCRIPTION:
URL:https://elcairocinepublico.gob.ar/pelicula-de-sala/dias-perfectos/2024-03-23/
ATTACH;FMTTYPE=image/jpeg:https://elcairocinepublico.gob.ar/wp-content/uploads/2024/02/Dias-Perfectos-01.jpg
END:VEVENT
BEGIN:VEVENT
DTSTART;TZID=America/Sao_Paulo:20240323T203000
DTEND;TZID=America/Sao_Paulo:20240323T203000
DTSTAMP:20260425T195517
CREATED:20240301T134608Z
LAST-MODIFIED:20240301T135958Z
UID:18135-1711225800-1711225800@elcairocinepublico.gob.ar
SUMMARY:EL JUICIO
DESCRIPTION:
URL:https://elcairocinepublico.gob.ar/pelicula-de-sala/el-juicio/
CATEGORIES:MEMORIA
ATTACH;FMTTYPE=image/jpeg:https://elcairocinepublico.gob.ar/wp-content/uploads/2024/03/EL-JUICIO-01.jpg
END:VEVENT
END:VCALENDAR