BEGIN:VCALENDAR
VERSION:2.0
PRODID:-//El Cairo - ECPv5.5.0.1//NONSGML v1.0//EN
CALSCALE:GREGORIAN
METHOD:PUBLISH
X-WR-CALNAME:El Cairo
X-ORIGINAL-URL:https://elcairocinepublico.gob.ar
X-WR-CALDESC:Eventos para El Cairo
BEGIN:VTIMEZONE
TZID:America/Sao_Paulo
BEGIN:STANDARD
TZOFFSETFROM:-0300
TZOFFSETTO:-0300
TZNAME:-03
DTSTART:20240101T000000
END:STANDARD
END:VTIMEZONE
BEGIN:VEVENT
DTSTART;TZID=America/Sao_Paulo:20240324T180000
DTEND;TZID=America/Sao_Paulo:20240324T180000
DTSTAMP:20260425T215648
CREATED:20240229T165331Z
LAST-MODIFIED:20240301T134345Z
UID:18022-1711303200-1711303200@elcairocinepublico.gob.ar
SUMMARY:ARGENTINA 1985
DESCRIPTION:
URL:https://elcairocinepublico.gob.ar/pelicula-de-sala/argentina-1985-3-2/
CATEGORIES:LA GRATIS / Cuando Óscar conoció a Bechdel,MEMORIA
ATTACH;FMTTYPE=image/jpeg:https://elcairocinepublico.gob.ar/wp-content/uploads/2022/10/Argentina-1985-01.jpg
END:VEVENT
BEGIN:VEVENT
DTSTART;TZID=America/Sao_Paulo:20240324T203000
DTEND;TZID=America/Sao_Paulo:20240324T203000
DTSTAMP:20260425T215648
CREATED:20240301T141925Z
LAST-MODIFIED:20240301T141925Z
UID:18148-1711312200-1711312200@elcairocinepublico.gob.ar
SUMMARY:UN AIRE A VOS. LOS NIETOS QUE BUSCAMOS
DESCRIPTION:
URL:https://elcairocinepublico.gob.ar/pelicula-de-sala/un-aire-a-vos-los-nietos-que-buscamos/
CATEGORIES:MEMORIA
ATTACH;FMTTYPE=image/jpeg:https://elcairocinepublico.gob.ar/wp-content/uploads/2024/03/UN-AIRE-A-VOS-01.jpg
END:VEVENT
BEGIN:VEVENT
DTSTART;TZID=America/Sao_Paulo:20240324T223000
DTEND;TZID=America/Sao_Paulo:20240324T223000
DTSTAMP:20260425T215648
CREATED:20240201T162146Z
LAST-MODIFIED:20240201T162146Z
UID:20740-1711319400-1711319400@elcairocinepublico.gob.ar
SUMMARY:ANATOMÍA DE UNA CAÍDA
DESCRIPTION:
URL:https://elcairocinepublico.gob.ar/pelicula-de-sala/anatomia-de-una-caida-2/2024-03-24/
ATTACH;FMTTYPE=image/jpeg:https://elcairocinepublico.gob.ar/wp-content/uploads/2024/02/ANATOMIA-DE-UNA-CAIDA-01.jpg
END:VEVENT
END:VCALENDAR